BEGIN:VCALENDAR
VERSION:2.0
PRODID:SchoolNow
CALSCALE:GREGORIAN
BEGIN:VEVENT
UID:e70c60f4-1d79-11f1-82ae-0e55910752fb
DTSTAMP:20260311T184122Z
SUMMARY:Girls Soccer Practice
LOCATION:Arbor Park Middle School
URL;VALUE=URI:https://www.arbor145.org/apms/calendar/8910305/girls-soccer-p
 ractice
DTSTART:20260330T193000Z
DTEND:20260330T210000Z
END:VEVENT
END:VCALENDAR
