BEGIN:VCALENDAR
VERSION:2.0
PRODID:SchoolNow
CALSCALE:GREGORIAN
BEGIN:VEVENT
UID:e1812984-1d7a-11f1-90f1-0a58a9feac02
DTSTAMP:20260311T184823Z
SUMMARY:Boys Soccer Practice
LOCATION:Arbor Park Middle School
URL;VALUE=URI:https://www.arbor145.org/apms/calendar/8910306/boys-soccer-pr
 actice
DTSTART:20260401T193000Z
DTEND:20260401T210000Z
END:VEVENT
END:VCALENDAR
