BEGIN:VCALENDAR
VERSION:2.0
PRODID:SchoolNow
CALSCALE:GREGORIAN
BEGIN:VEVENT
UID:0615d966-1d7b-11f1-b02d-0affc9cc228b
DTSTAMP:20260311T184924Z
SUMMARY:Girls Soccer Practice
LOCATION:Arbor Park Middle School
URL;VALUE=URI:https://www.arbor145.org/apms/calendar/8910307/girls-soccer-p
 ractice
DTSTART:20260408T193000Z
DTEND:20260408T210000Z
END:VEVENT
END:VCALENDAR
