BEGIN:VCALENDAR
VERSION:2.0
PRODID:SchoolNow
CALSCALE:GREGORIAN
BEGIN:VEVENT
UID:4d106060-215a-11f1-bc4b-0a58a9feac02
DTSTAMP:20260316T170514Z
SUMMARY:Boys & Girls Track Tryout (Throwers ONLY)
LOCATION:Arbor Park Middle School
URL;VALUE=URI:https://www.arbor145.org/apms/calendar/8922841/boys-girls-tra
 ck-tryout-throwers-only
DTSTART:20260317T193000Z
DTEND:20260317T203000Z
END:VEVENT
END:VCALENDAR
