BEGIN:VCALENDAR
VERSION:2.0
PRODID:SchoolNow
CALSCALE:GREGORIAN
BEGIN:VEVENT
UID:d532afa2-215a-11f1-bd11-0affd607021b
DTSTAMP:20260316T170903Z
SUMMARY:Boys & Girls Track Tryouts (Runners)
LOCATION:Arbor Park Middle School
URL;VALUE=URI:https://www.arbor145.org/apms/calendar/8922842/boys-girls-tra
 ck-tryouts-runners
DTSTART:20260318T193000Z
DTEND:20260318T210000Z
END:VEVENT
END:VCALENDAR
