BEGIN:VCALENDAR
VERSION:2.0
PRODID:SchoolNow
CALSCALE:GREGORIAN
BEGIN:VEVENT
UID:f2645666-215a-11f1-9ead-0a58a9feac02
DTSTAMP:20260316T170952Z
SUMMARY:Boys & Girls Track Tryouts (Runners)
LOCATION:Arbor Park Middle School
URL;VALUE=URI:https://www.arbor145.org/apms/calendar/8922843/boys-girls-tra
 ck-tryouts-runners
DTSTART:20260319T193000Z
DTEND:20260319T210000Z
END:VEVENT
END:VCALENDAR
