BEGIN:VCALENDAR
VERSION:2.0
PRODID:SchoolNow
CALSCALE:GREGORIAN
BEGIN:VEVENT
UID:c650fac6-2c5d-11f1-9edb-0a58a9feac02
DTSTAMP:20260330T172749Z
SUMMARY:Track Practice
LOCATION:Arbor Park Middle School
URL;VALUE=URI:https://www.arbor145.org/apms/calendar/8957888/track-practice
DTSTART:20260330T193000Z
DTEND:20260330T203000Z
END:VEVENT
END:VCALENDAR
