BEGIN:VCALENDAR
VERSION:2.0
PRODID:SchoolNow
CALSCALE:GREGORIAN
BEGIN:VEVENT
UID:0e676db8-2c5e-11f1-b8f3-0a58a9feac02
DTSTAMP:20260330T172950Z
SUMMARY:Track Practice
LOCATION:Arbor Park Middle School
URL;VALUE=URI:https://www.arbor145.org/apms/calendar/8957889/track-practice
DTSTART:20260331T193000Z
DTEND:20260331T203000Z
END:VEVENT
END:VCALENDAR
