BEGIN:VCALENDAR
VERSION:2.0
PRODID:SchoolNow
CALSCALE:GREGORIAN
BEGIN:VEVENT
UID:82ef40b8-2c66-11f1-9b26-0a58a9feac02
DTSTAMP:20260330T183022Z
SUMMARY:Track Practice (Jumpers ONLY)
LOCATION:Arbor Park Middle School
URL;VALUE=URI:https://www.arbor145.org/apms/calendar/8957973/track-practice
 -jumpers-only
DTSTART:20260401T193000Z
DTEND:20260401T203000Z
END:VEVENT
END:VCALENDAR
