BEGIN:VCALENDAR
VERSION:2.0
PRODID:SchoolNow
CALSCALE:GREGORIAN
BEGIN:VEVENT
UID:9c4b6a5a-2c66-11f1-8c5c-0a58a9feac02
DTSTAMP:20260330T183104Z
SUMMARY:Track Practice
LOCATION:Arbor Park Middle School
URL;VALUE=URI:https://www.arbor145.org/apms/calendar/8957974/track-practice
DTSTART:20260402T193000Z
DTEND:20260402T203000Z
END:VEVENT
END:VCALENDAR
