BEGIN:VCALENDAR
VERSION:2.0
PRODID:SchoolNow
CALSCALE:GREGORIAN
BEGIN:VEVENT
UID:bcd98450-2c66-11f1-aee7-02cb2094fa1d
DTSTAMP:20260330T183159Z
SUMMARY:Track Practice (NO THROWERS)
LOCATION:Arbor Park Middle School
URL;VALUE=URI:https://www.arbor145.org/apms/calendar/8957975/track-practice
 -no-throwers
DTSTART:20260407T193000Z
DTEND:20260407T203000Z
END:VEVENT
END:VCALENDAR
