BEGIN:VCALENDAR
VERSION:2.0
PRODID:SchoolNow
CALSCALE:GREGORIAN
BEGIN:VEVENT
UID:d78b5c42-2c66-11f1-956f-0a58a9feac02
DTSTAMP:20260330T183243Z
SUMMARY:Track Practice (Jumpers ONLY)
LOCATION:Arbor Park Middle School
URL;VALUE=URI:https://www.arbor145.org/apms/calendar/8957976/track-practice
 -jumpers-only
DTSTART:20260408T193000Z
DTEND:20260408T203000Z
END:VEVENT
END:VCALENDAR
