BEGIN:VCALENDAR
VERSION:2.0
PRODID:SchoolNow
CALSCALE:GREGORIAN
BEGIN:VEVENT
UID:0107592c-2c67-11f1-912b-0a58a9feac02
DTSTAMP:20260330T183353Z
SUMMARY:Track Practice
LOCATION:Arbor Park Middle School
URL;VALUE=URI:https://www.arbor145.org/apms/calendar/8957977/track-practice
DTSTART:20260409T193000Z
DTEND:20260409T203000Z
END:VEVENT
END:VCALENDAR
