BEGIN:VCALENDAR
VERSION:2.0
PRODID:SchoolNow
CALSCALE:GREGORIAN
BEGIN:VEVENT
UID:6a9cc368-2c67-11f1-88b7-0a58a9feac02
DTSTAMP:20260330T183650Z
SUMMARY:Track Practice
LOCATION:Arbor Park Middle School
URL;VALUE=URI:https://www.arbor145.org/apms/calendar/8957978/track-practice
DTSTART:20260413T193000Z
DTEND:20260413T203000Z
END:VEVENT
END:VCALENDAR
