BEGIN:VCALENDAR
VERSION:2.0
PRODID:SchoolNow
CALSCALE:GREGORIAN
BEGIN:VEVENT
UID:85ebc66e-2c67-11f1-ab87-0a58a9feac02
DTSTAMP:20260330T183736Z
SUMMARY:Track Practice
LOCATION:Arbor Park Middle School
URL;VALUE=URI:https://www.arbor145.org/apms/calendar/8957979/track-practice
DTSTART:20260414T193000Z
DTEND:20260414T203000Z
END:VEVENT
END:VCALENDAR
