BEGIN:VCALENDAR
VERSION:2.0
PRODID:SchoolNow
CALSCALE:GREGORIAN
BEGIN:VEVENT
UID:ec6ce2c4-2c67-11f1-9ec2-02cb2094fa1d
DTSTAMP:20260330T184028Z
SUMMARY:Track Meet Oak Forest H.S. with Hille/Independence
LOCATION:Oak Forest High School
URL;VALUE=URI:https://www.arbor145.org/apms/calendar/8957980/track-meet-oak
 -forest-h-s-with-hille-independence
DTSTART:20260415T213000Z
DTEND:20260415T223000Z
END:VEVENT
END:VCALENDAR
