BEGIN:VCALENDAR
VERSION:2.0
PRODID:SchoolNow
CALSCALE:GREGORIAN
BEGIN:VEVENT
UID:30b610cc-2c68-11f1-a0a1-0afff963552b
DTSTAMP:20260330T184223Z
SUMMARY:Track Practice
LOCATION:Arbor Park Middle School
URL;VALUE=URI:https://www.arbor145.org/apms/calendar/8957981/track-practice
DTSTART:20260416T193000Z
DTEND:20260416T203000Z
END:VEVENT
END:VCALENDAR
