BEGIN:VCALENDAR
VERSION:2.0
PRODID:SchoolNow
CALSCALE:GREGORIAN
BEGIN:VEVENT
UID:500f416e-2c68-11f1-891e-02c71ee0afd3
DTSTAMP:20260330T184315Z
SUMMARY:Track Practice
LOCATION:Arbor Park Middle School
URL;VALUE=URI:https://www.arbor145.org/apms/calendar/8957982/track-practice
DTSTART:20260420T193000Z
DTEND:20260420T203000Z
END:VEVENT
END:VCALENDAR
