BEGIN:VCALENDAR
VERSION:2.0
PRODID:SchoolNow
CALSCALE:GREGORIAN
BEGIN:VEVENT
UID:6a3b3e74-2c6a-11f1-aeb1-0a58a9feac02
DTSTAMP:20260330T185818Z
SUMMARY:Track Meet Shepard H.S. with Wilkins/Prairie
LOCATION:Shepard High School
URL;VALUE=URI:https://www.arbor145.org/apms/calendar/8957985/track-meet-she
 pard-h-s-with-wilkins-prairie
DTSTART:20260422T213000Z
DTEND:20260422T223000Z
END:VEVENT
END:VCALENDAR
