BEGIN:VCALENDAR
VERSION:2.0
PRODID:SchoolNow
CALSCALE:GREGORIAN
BEGIN:VEVENT
UID:6333133c-2c6e-11f1-9362-0eb47fac19db
DTSTAMP:20260330T192644Z
SUMMARY:Track Practice
LOCATION:Arbor Park Middle School
URL;VALUE=URI:https://www.arbor145.org/apms/calendar/8957990/track-practice
DTSTART:20260423T193000Z
DTEND:20260423T203000Z
END:VEVENT
END:VCALENDAR
