BEGIN:VCALENDAR
VERSION:2.0
PRODID:SchoolNow
CALSCALE:GREGORIAN
BEGIN:VEVENT
UID:7aa09e9a-2c6e-11f1-a32f-02c71ee0afd3
DTSTAMP:20260330T192724Z
SUMMARY:Track Practice
LOCATION:Arbor Park Middle School
URL;VALUE=URI:https://www.arbor145.org/apms/calendar/8957991/track-practice
DTSTART:20260427T193000Z
DTEND:20260427T203000Z
END:VEVENT
END:VCALENDAR
