BEGIN:VCALENDAR
VERSION:2.0
PRODID:SchoolNow
CALSCALE:GREGORIAN
BEGIN:VEVENT
UID:ba45839e-2c6e-11f1-b19a-0a58a9feac02
DTSTAMP:20260330T192910Z
SUMMARY:Track Practice
LOCATION:Arbor Park Middle School
URL;VALUE=URI:https://www.arbor145.org/apms/calendar/8957992/track-practice
DTSTART:20260428T193000Z
DTEND:20260428T203000Z
END:VEVENT
END:VCALENDAR
