BEGIN:VCALENDAR
VERSION:2.0
PRODID:SchoolNow
CALSCALE:GREGORIAN
BEGIN:VEVENT
UID:5d6bbd08-2c70-11f1-95e6-024b1f994ab3
DTSTAMP:20260330T194054Z
SUMMARY:Track Meet Bremen H.S. with Kolmar/Prairie
LOCATION:Bremen High School
URL;VALUE=URI:https://www.arbor145.org/apms/calendar/8957994/track-meet-bre
 men-h-s-with-kolmar-prairie
DTSTART:20260429T213000Z
DTEND:20260429T223000Z
END:VEVENT
END:VCALENDAR
