BEGIN:VCALENDAR
VERSION:2.0
PRODID:SchoolNow
CALSCALE:GREGORIAN
BEGIN:VEVENT
UID:71a9ffc2-2c71-11f1-8a6c-02cb2094fa1d
DTSTAMP:20260330T194837Z
SUMMARY:Track Practice
LOCATION:Arbor Park Middle School
URL;VALUE=URI:https://www.arbor145.org/apms/calendar/8957995/track-practice
DTSTART:20260430T193000Z
DTEND:20260430T203000Z
END:VEVENT
END:VCALENDAR
