BEGIN:VCALENDAR
VERSION:2.0
PRODID:SchoolNow
CALSCALE:GREGORIAN
BEGIN:VEVENT
UID:c9b3b2a8-2c71-11f1-9d2f-0255c09f7ddb
DTSTAMP:20260330T195105Z
SUMMARY:Track Practice
LOCATION:Arbor Park Middle School
URL;VALUE=URI:https://www.arbor145.org/apms/calendar/8957997/track-practice
DTSTART:20260504T193000Z
DTEND:20260504T203000Z
END:VEVENT
END:VCALENDAR
