BEGIN:VCALENDAR
VERSION:2.0
PRODID:SchoolNow
CALSCALE:GREGORIAN
BEGIN:VEVENT
UID:03b6bab8-2c72-11f1-8a58-0a58a9feac02
DTSTAMP:20260330T195242Z
SUMMARY:Track Practice
LOCATION:Arbor Park Middle School
URL;VALUE=URI:https://www.arbor145.org/apms/calendar/8957998/track-practice
DTSTART:20260505T193000Z
DTEND:20260505T203000Z
END:VEVENT
END:VCALENDAR
