BEGIN:VCALENDAR
VERSION:2.0
PRODID:SchoolNow
CALSCALE:GREGORIAN
BEGIN:VEVENT
UID:e1475964-2d03-11f1-9bc4-0ea95dd34c39
DTSTAMP:20260331T131651Z
SUMMARY:Track Practice (Jumpers ONLY)
LOCATION:Arbor Park Middle School
URL;VALUE=URI:https://www.arbor145.org/apms/calendar/8960044/track-practice
 -jumpers-only
DTSTART:20260506T193000Z
DTEND:20260506T203000Z
END:VEVENT
END:VCALENDAR
