BEGIN:VCALENDAR
VERSION:2.0
PRODID:SchoolNow
CALSCALE:GREGORIAN
BEGIN:VEVENT
UID:fcee598e-2d07-11f1-a332-0a58a9feac02
DTSTAMP:20260331T134615Z
SUMMARY:Track Practice
LOCATION:Arbor Park Middle School
URL;VALUE=URI:https://www.arbor145.org/apms/calendar/8960057/track-practice
DTSTART:20260507T193000Z
DTEND:20260507T203000Z
END:VEVENT
END:VCALENDAR
