BEGIN:VCALENDAR
VERSION:2.0
PRODID:SchoolNow
CALSCALE:GREGORIAN
BEGIN:VEVENT
UID:53d4189c-2d08-11f1-aa2b-0a58a9feac02
DTSTAMP:20260331T134841Z
SUMMARY:Track Practice
LOCATION:Arbor Park Middle School
URL;VALUE=URI:https://www.arbor145.org/apms/calendar/8960060/track-practice
DTSTART:20260511T193000Z
DTEND:20260511T203000Z
END:VEVENT
END:VCALENDAR
