BEGIN:VCALENDAR
VERSION:2.0
PRODID:SchoolNow
CALSCALE:GREGORIAN
BEGIN:VEVENT
UID:6f6e5b4e-2d08-11f1-a3e1-0a58a9feac02
DTSTAMP:20260331T134927Z
SUMMARY:Track Practice
LOCATION:Arbor Park Middle School
URL;VALUE=URI:https://www.arbor145.org/apms/calendar/8960061/track-practice
DTSTART:20260512T193000Z
DTEND:20260512T203000Z
END:VEVENT
END:VCALENDAR
