BEGIN:VCALENDAR
VERSION:2.0
PRODID:SchoolNow
CALSCALE:GREGORIAN
BEGIN:VEVENT
UID:8e2287ae-2d08-11f1-b116-0a58a9feac02
DTSTAMP:20260331T135019Z
SUMMARY:Track Practice (Jumpers ONLY)
LOCATION:Arbor Park Middle School
URL;VALUE=URI:https://www.arbor145.org/apms/calendar/8960062/track-practice
 -jumpers-only
DTSTART:20260513T193000Z
DTEND:20260513T203000Z
END:VEVENT
END:VCALENDAR
