BEGIN:VCALENDAR
VERSION:2.0
PRODID:SchoolNow
CALSCALE:GREGORIAN
BEGIN:VEVENT
UID:aa9e20be-2d08-11f1-8e5a-0a58a9feac02
DTSTAMP:20260331T135107Z
SUMMARY:Track Practice
LOCATION:Arbor Park Middle School
URL;VALUE=URI:https://www.arbor145.org/apms/calendar/8960063/track-practice
DTSTART:20260514T193000Z
DTEND:20260514T203000Z
END:VEVENT
END:VCALENDAR
