BEGIN:VCALENDAR
VERSION:2.0
PRODID:SchoolNow
CALSCALE:GREGORIAN
BEGIN:VEVENT
UID:f793b7b2-2d08-11f1-94f8-0ea95dd34c39
DTSTAMP:20260331T135316Z
SUMMARY:Track Practice TBA
LOCATION:Arbor Park Middle School
URL;VALUE=URI:https://www.arbor145.org/apms/calendar/8960064/track-practice
 -tba
DTSTART:20260515T193000Z
DTEND:20260515T203000Z
END:VEVENT
END:VCALENDAR
