BEGIN:VCALENDAR
VERSION:2.0
PRODID:SchoolNow
CALSCALE:GREGORIAN
BEGIN:VEVENT
UID:39d05540-2d09-11f1-abb3-0a58a9feac02
DTSTAMP:20260331T135507Z
SUMMARY:Conference Track Meet at Shepard H.S.
LOCATION:Shepard High School
URL;VALUE=URI:https://www.arbor145.org/apms/calendar/8960066/conference-tra
 ck-meet-at-shepard-h-s
DTSTART:20260518T211500Z
DTEND:20260518T221500Z
END:VEVENT
END:VCALENDAR
