BEGIN:VCALENDAR
VERSION:2.0
PRODID:SchoolNow
CALSCALE:GREGORIAN
BEGIN:VEVENT
UID:65425084-2d09-11f1-b701-0a58a9feac02
DTSTAMP:20260331T135620Z
SUMMARY:Conference Track Rain Make Up Date
URL;VALUE=URI:https://www.arbor145.org/apms/calendar/8960067/conference-tra
 ck-rain-make-up-date
DTSTART:20260519T211500Z
DTEND:20260519T221500Z
END:VEVENT
END:VCALENDAR
