BEGIN:VCALENDAR
VERSION:2.0
PRODID:SchoolNow
CALSCALE:GREGORIAN
BEGIN:VEVENT
UID:7616c2c4-1f33-11ed-bb0d-0215cc144857
DTSTAMP:20220818T202220Z
SUMMARY:Mid-Trimester I Grades Due
URL;VALUE=URI:https://www.arbor145.org/calendar/3287444/mid-trimester-i-gra
 des-due
DTSTART;VALUE=DATE:20220928
DTEND;VALUE=DATE:20220929
END:VEVENT
END:VCALENDAR
