BEGIN:VCALENDAR
VERSION:2.0
PRODID:SchoolNow
CALSCALE:GREGORIAN
BEGIN:VEVENT
UID:6ccda6ac-35da-11ed-bbcc-0a3a2494b64f
DTSTAMP:20220916T161256Z
SUMMARY:PTO Meeting
URL;VALUE=URI:https://www.arbor145.org/calendar/3402343/pto-meeting
DTSTART:20230210T010000Z
DTEND:20230210T020000Z
END:VEVENT
END:VCALENDAR
