BEGIN:VCALENDAR
VERSION:2.0
PRODID:SchoolNow
CALSCALE:GREGORIAN
BEGIN:VEVENT
UID:be39086a-35ee-11ed-b51a-028f87d667fd
DTSTAMP:20220916T183822Z
SUMMARY:Independance Day
URL;VALUE=URI:https://www.arbor145.org/calendar/3402703/independance-day
DTSTART;VALUE=DATE:20230704
DTEND;VALUE=DATE:20230705
END:VEVENT
END:VCALENDAR
