BEGIN:VCALENDAR
VERSION:2.0
PRODID:SchoolNow
CALSCALE:GREGORIAN
BEGIN:VEVENT
UID:f4d6e6bc-2666-11ee-8593-0a58a9feac02
DTSTAMP:20230719T190333Z
SUMMARY:KN Bus Run
URL;VALUE=URI:https://www.arbor145.org/calendar/4501248/kn-bus-run
DTSTART;VALUE=DATE:20230822
DTEND;VALUE=DATE:20230823
END:VEVENT
END:VCALENDAR
