BEGIN:VCALENDAR
VERSION:2.0
PRODID:SchoolNow
CALSCALE:GREGORIAN
BEGIN:VEVENT
UID:24886a0c-2667-11ee-b99b-0a32f09d2d93
DTSTAMP:20230719T190453Z
SUMMARY:KHS Move in Night
URL;VALUE=URI:https://www.arbor145.org/calendar/4501250/khs-move-in-night
DTSTART:20230822T210000Z
DTEND:20230822T223000Z
END:VEVENT
END:VCALENDAR
