BEGIN:VCALENDAR
VERSION:2.0
PRODID:SchoolNow
CALSCALE:GREGORIAN
BEGIN:VEVENT
UID:41f0a6b8-2667-11ee-8c3f-029af40bd955
DTSTAMP:20230719T191013Z
SUMMARY:First Day of School - Trimester I Begins
URL;VALUE=URI:https://www.arbor145.org/calendar/4501251/first-day-of-school
DTSTART;VALUE=DATE:20230823
DTEND;VALUE=DATE:20230824
END:VEVENT
END:VCALENDAR
