BEGIN:VCALENDAR
VERSION:2.0
PRODID:SchoolNow
CALSCALE:GREGORIAN
BEGIN:VEVENT
UID:721f1cca-2667-11ee-8737-0a2b130c3785
DTSTAMP:20230719T190703Z
SUMMARY:KHS Curriculum Night
URL;VALUE=URI:https://www.arbor145.org/calendar/4501252/khs-curriculum-nigh
 t
DTSTART;VALUE=DATE:20230831
DTEND;VALUE=DATE:20230901
END:VEVENT
END:VCALENDAR
