BEGIN:VCALENDAR
VERSION:2.0
PRODID:SchoolNow
CALSCALE:GREGORIAN
BEGIN:VEVENT
UID:cbb9d040-2667-11ee-87eb-0a58a9feac02
DTSTAMP:20230719T202711Z
SUMMARY:KHS Picture Day
URL;VALUE=URI:https://www.arbor145.org/calendar/4501253/khs-fall-picture-da
 y
DTSTART;VALUE=DATE:20230908
DTEND;VALUE=DATE:20230909
END:VEVENT
END:VCALENDAR
