BEGIN:VCALENDAR
VERSION:2.0
PRODID:SchoolNow
CALSCALE:GREGORIAN
BEGIN:VEVENT
UID:8c9abb2e-266a-11ee-9eb1-0a58a9feac02
DTSTAMP:20230719T200850Z
SUMMARY:KHS Star 360 Testing - KN
URL;VALUE=URI:https://www.arbor145.org/calendar/4501294/star-360-testing-kn
DTSTART;VALUE=DATE:20230912
DTEND;VALUE=DATE:20230914
END:VEVENT
END:VCALENDAR
