BEGIN:VCALENDAR
VERSION:2.0
PRODID:SchoolNow
CALSCALE:GREGORIAN
BEGIN:VEVENT
UID:eb96986e-266a-11ee-b63b-0a58a9feac02
DTSTAMP:20230719T193155Z
SUMMARY:KHS Aimsweb Testing
URL;VALUE=URI:https://www.arbor145.org/calendar/4501295/khs-aimsweb-testing
DTSTART;VALUE=DATE:20230914
DTEND;VALUE=DATE:20230916
END:VEVENT
END:VCALENDAR
