BEGIN:VCALENDAR
VERSION:2.0
PRODID:SchoolNow
CALSCALE:GREGORIAN
BEGIN:VEVENT
UID:077009da-266b-11ee-9b4e-0a58a9feac02
DTSTAMP:20230719T193335Z
SUMMARY:KHS No Preschool/Screening All Day
URL;VALUE=URI:https://www.arbor145.org/calendar/4501297/khs-no-preschool-sc
 reening-all-day
DTSTART;VALUE=DATE:20230922
DTEND;VALUE=DATE:20230923
END:VEVENT
END:VCALENDAR
