BEGIN:VCALENDAR
VERSION:2.0
PRODID:SchoolNow
CALSCALE:GREGORIAN
BEGIN:VEVENT
UID:60647c42-266b-11ee-b6b7-0a32f09d2d93
DTSTAMP:20230719T195148Z
SUMMARY:KHS KIDS 40th Day Data Reporting
URL;VALUE=URI:https://www.arbor145.org/calendar/4501299/khs-kids-40th-day-d
 ata-reporting
DTSTART;VALUE=DATE:20231019
DTEND;VALUE=DATE:20231020
END:VEVENT
END:VCALENDAR
