BEGIN:VCALENDAR
VERSION:2.0
PRODID:SchoolNow
CALSCALE:GREGORIAN
BEGIN:VEVENT
UID:8f209c78-266b-11ee-9852-0a58a9feac02
DTSTAMP:20230719T193629Z
SUMMARY:KHS Morning PK Screening/Only Session 2 in Attendance
URL;VALUE=URI:https://www.arbor145.org/calendar/4501300/khs-morning-pk-scre
 ening-only-session-2-in-attendance
DTSTART;VALUE=DATE:20231020
DTEND;VALUE=DATE:20231021
END:VEVENT
END:VCALENDAR
