BEGIN:VCALENDAR
VERSION:2.0
PRODID:SchoolNow
CALSCALE:GREGORIAN
BEGIN:VEVENT
UID:abe5db02-266b-11ee-9fdd-0a58a9feac02
DTSTAMP:20230719T193718Z
SUMMARY:KHS Fall Book Fair
URL;VALUE=URI:https://www.arbor145.org/calendar/4501301/khs-fall-book-fair
DTSTART;VALUE=DATE:20231024
DTEND;VALUE=DATE:20231026
END:VEVENT
END:VCALENDAR
