BEGIN:VCALENDAR
VERSION:2.0
PRODID:SchoolNow
CALSCALE:GREGORIAN
BEGIN:VEVENT
UID:de6cdbb6-266b-11ee-b240-0a58a9feac02
DTSTAMP:20230719T201022Z
SUMMARY:KHS Afternoon PK Screening/ Only Session 1 in Attendance
URL;VALUE=URI:https://www.arbor145.org/calendar/4501302/khs-afternoon-pk-sc
 reening-only-session-1-in-attendance
DTSTART;VALUE=DATE:20231110
DTEND;VALUE=DATE:20231111
END:VEVENT
END:VCALENDAR
